BEGIN:VCALENDAR
VERSION:2.0
PRODID:-//dogdance.de - Dogdance und Klickertraining mit Denise Nardelli - ECPv4.6.16//NONSGML v1.0//EN
CALSCALE:GREGORIAN
METHOD:PUBLISH
X-WR-CALNAME:dogdance.de - Dogdance und Klickertraining mit Denise Nardelli
X-ORIGINAL-URL:http://dogdance.de
X-WR-CALDESC:Veranstaltungen für dogdance.de - Dogdance und Klickertraining mit Denise Nardelli
BEGIN:VEVENT
DTSTART;VALUE=DATE:20200111
DTEND;VALUE=DATE:20200113
DTSTAMP:20260420T083211
CREATED:20191207T185934Z
LAST-MODIFIED:20191207T190657Z
UID:297-1578700800-1578873599@dogdance.de
SUMMARY:Modul 3 Learn to train Deutschland
DESCRIPTION:Modul 3 /5 der Tricktrainer Ausbildung Learn to train \nNUR FÜR ABSOLVENTEN DER AUSBILDUNG! \n2019/2020 ausgebucht! \nNächster Start ist September 2020 \nInfos und Anmeldung unter www.learn-to-train.com \noder denise@dogdance.de \n
URL:http://dogdance.de/seminare-trainings/modul-3-learn-to-train-deutschland/
LOCATION:33334\, Deutschland
CATEGORIES:Tricktraining
ORGANIZER;CN="Learn-to-train.com":MAILTO:denise@dogdance.de
END:VEVENT
END:VCALENDAR